BEGIN:VCALENDAR
VERSION:2.0
PRODID:-//eventon.com NONSGML v1.0//EN
BEGIN:VEVENT
UID:69e4ee0119193
DTSTAMP:20260419T110017
DTSTART:20191019T200000Z
DTEND:20191019T220000Z
LOCATION:Seven Jars Distillery 6148 Brookshire Blvd Ste B
SUMMARY:Cindy Hauser's private party
DESCRIPTION: Please join friends and family of Cindy Hauser for a private party at Seven Jars Distillery. Call (704)919-0278 for inquiries and questions.
END:VEVENT
END:VCALENDAR