BEGIN:VCALENDAR
VERSION:2.0
PRODID:-//eventon.com NONSGML v1.0//EN
BEGIN:VEVENT
UID:69e50376caadf
DTSTAMP:20260419T123150
DTSTART:20191012T130000Z
DTEND:20191012T170000Z
LOCATION:Seven Jars Distillery 6148 Brookshire Blvd Ste B
SUMMARY:Homewine Class
DESCRIPTION: Homewine Class
END:VEVENT
END:VCALENDAR