BEGIN:VCALENDAR
VERSION:2.0
PRODID:-//eventon.com NONSGML v1.0//EN
BEGIN:VEVENT
UID:69e4e98a820da
DTSTAMP:20260419T104114
DTSTART:20191214T130000Z
DTEND:20191214T170000Z
LOCATION:Seven Jars Distillery 6148 Brookshire Blvd Ste B
SUMMARY:Homebrew Class
DESCRIPTION: Homebrew Class
END:VEVENT
END:VCALENDAR