BEGIN:VCALENDAR
VERSION:2.0
PRODID:-//eventon.com NONSGML v1.0//EN
BEGIN:VEVENT
UID:69e4edf1e55d8
DTSTAMP:20260419T110001
DTSTART:20190921T210000Z
DTEND:20190921T230000Z
LOCATION:
SUMMARY:Cigars\,  Whiskey and Wine
DESCRIPTION: Tastings of Three Seven Jars Whiskey Cocktails\,  Tastings of Three of Seven Jars Wines\,  And a Complimentary Cigar\,  a distillery tour and a Seven Jars History Lesson along with an Introduction to Watchman Cigars.
END:VEVENT
END:VCALENDAR